BEGIN:VCALENDAR
VERSION:2.0
PRODID:-//TheWebDoc.tv - ECPv6.1.3//NONSGML v1.0//EN
CALSCALE:GREGORIAN
METHOD:PUBLISH
X-WR-CALNAME:TheWebDoc.tv
X-ORIGINAL-URL:https://thewebdoc.tv
X-WR-CALDESC:Events for TheWebDoc.tv
REFRESH-INTERVAL;VALUE=DURATION:PT1H
X-Robots-Tag:noindex
X-PUBLISHED-TTL:PT1H
BEGIN:VTIMEZONE
TZID:America/New_York
BEGIN:DAYLIGHT
TZOFFSETFROM:-0500
TZOFFSETTO:-0400
TZNAME:EDT
DTSTART:20140309T070000
END:DAYLIGHT
BEGIN:STANDARD
TZOFFSETFROM:-0400
TZOFFSETTO:-0500
TZNAME:EST
DTSTART:20141102T060000
END:STANDARD
BEGIN:DAYLIGHT
TZOFFSETFROM:-0500
TZOFFSETTO:-0400
TZNAME:EDT
DTSTART:20150308T070000
END:DAYLIGHT
BEGIN:STANDARD
TZOFFSETFROM:-0400
TZOFFSETTO:-0500
TZNAME:EST
DTSTART:20151101T060000
END:STANDARD
END:VTIMEZONE
BEGIN:VEVENT
DTSTART;TZID=America/New_York:20151027T140000
DTEND;TZID=America/New_York:20151027T150000
DTSTAMP:20260421T151746
CREATED:20150928T125653Z
LAST-MODIFIED:20150928T125653Z
UID:2228-1445954400-1445958000@thewebdoc.tv
SUMMARY:Drive Traffic to Your Service Lane to Increase New Vehicle Sales
DESCRIPTION:If someone hasn’t been in your dealership in over a year\, they’re not coming back. Right? Wrong!  \nDealerPro Training’s Don Reed will show you how to bring back customers that haven’t been to your dealership in months or even over a year. Don Reed specializes in Fixed Ops training and helps service departments around the country become more profitable and powerful.  \nJoin digital marketing expert Peter â??Webdocâ? Martin and online reputation genius Ron â??Madâ? Max for this powerful webinar. Acclaimed speaker Peter Martin has been featured at notable industry events including NADA\, Digital Dealer\, RVDA\, and AutoCon. Seasoned automotive veteran Ron Max was one of the top reviewed salesmen in the MileOne Automotive Group.  \nRegister Now
URL:https://thewebdoc.tv/calendar-event/drive-traffic-to-your-service-lane-to-increase-new-vehicle-sales
CATEGORIES:Calendar,Webinar
ATTACH;FMTTYPE=image/jpeg:https://thewebdoc.tv/wp-content/uploads/2015/09/DonReedWebinar.jpg
END:VEVENT
BEGIN:VEVENT
DTSTART;TZID=America/New_York:20151018T080000
DTEND;TZID=America/New_York:20151020T121500
DTSTAMP:20260421T151746
CREATED:20151002T131623Z
LAST-MODIFIED:20151002T131623Z
UID:2299-1445155200-1445343300@thewebdoc.tv
SUMMARY:Driving Sales Executive Summit
DESCRIPTION:The Automotive Retail Industry’s Most Progressive Event
URL:https://thewebdoc.tv/calendar-event/driving-sales-executive-summit
LOCATION:Bellagio\, Las Vegas\, NV\, United States
CATEGORIES:Calendar
ATTACH;FMTTYPE=image/png:https://thewebdoc.tv/wp-content/uploads/2015/10/DSES.png
END:VEVENT
BEGIN:VEVENT
DTSTART;TZID=America/New_York:20151005T070000
DTEND;TZID=America/New_York:20151007T120000
DTSTAMP:20260421T151746
CREATED:20150901T203004Z
LAST-MODIFIED:20150901T203301Z
UID:2177-1444028400-1444219200@thewebdoc.tv
SUMMARY:Digital Dealer 19
DESCRIPTION:
URL:https://thewebdoc.tv/calendar-event/digital-dealer-19
CATEGORIES:Calendar
ATTACH;FMTTYPE=image/png:https://thewebdoc.tv/wp-content/uploads/2015/09/DD19-Logo-e1441139509990.png
END:VEVENT
BEGIN:VEVENT
DTSTART;TZID=America/New_York:20150924T080000
DTEND;TZID=America/New_York:20150926T170000
DTSTAMP:20260421T151746
CREATED:20150903T182433Z
LAST-MODIFIED:20150903T182433Z
UID:2183-1443081600-1443286800@thewebdoc.tv
SUMMARY:Barrett-Jackson Collectors Auction
DESCRIPTION:
URL:https://thewebdoc.tv/calendar-event/barrett-jackson-collectors-auction
LOCATION:Mandalay Bay Resort and Casino\, 3950 S Las Vegas Blvd \, Las Vegas\, 89119
CATEGORIES:Calendar
ATTACH;FMTTYPE=image/jpeg:https://thewebdoc.tv/wp-content/uploads/2015/09/BJlogo_April2015.jpg
END:VEVENT
BEGIN:VEVENT
DTSTART;TZID=America/New_York:20150414T130000
DTEND;TZID=America/New_York:20150414T133000
DTSTAMP:20260421T151746
CREATED:20150327T134907Z
LAST-MODIFIED:20150410T192416Z
UID:2039-1429016400-1429018200@thewebdoc.tv
SUMMARY:Build Your Practice by Improving Your Online Reputation
DESCRIPTION:Did you know that over a third of US adults went to a healthcare provider or avoided one based on online ratings? (Wall Street Journal) \nOnline reviews are the new word of mouth recommendation; your current patients are evaluating your care through online reviews. \n62% of patients find a new healthcare provider with online reviews\n19% of patients validate a tentative selection\n19% of patients evaluate existing healthcare provider \nJoin online reputation experts Ron Max and Peter Martin for a special invitation webinar to discuss best practices for improving your online reputation and earning more business in the healthcare field. \nRegister Now
URL:https://thewebdoc.tv/calendar-event/build-your-practice-by-improving-your-online-reputation
CATEGORIES:Calendar,Webinar
ATTACH;FMTTYPE=image/jpeg:https://thewebdoc.tv/wp-content/uploads/2015/03/webinar-branding.jpg
END:VEVENT
BEGIN:VEVENT
DTSTART;VALUE=DATE:20140923
DTEND;VALUE=DATE:20140925
DTSTAMP:20260421T151746
CREATED:20140828T131502Z
LAST-MODIFIED:20140828T145106Z
UID:1525-1411430400-1411603199@thewebdoc.tv
SUMMARY:17th Digital Dealer Conference & Exposition 2014
DESCRIPTION:About Digital Dealer: \nThe Digital Dealer Conference & Exposition is retail automotiveâ??s leading digital strategy conference\, focused on introducing\, exploring\, and implementing the various digital components required to engage todayâ??s modern automotive consumer. \n  \nLearn More
URL:https://thewebdoc.tv/calendar-event/17th-digital-dealer-conference-exposition-2014
LOCATION:The Mirage Las Vegas Hotel & Casino\, 3400 Las Vegas Blvd South\, Las Vegas\, NV\, 89109\, United States
CATEGORIES:Calendar
ATTACH;FMTTYPE=image/png:https://thewebdoc.tv/wp-content/uploads/2014/08/17th-digital-dealer-e1409235572846.png
END:VEVENT
END:VCALENDAR